BEGIN:VCALENDAR
VERSION:2.0
PRODID:-//Trebetherick Residents&#039; Association - ECPv6.15.16//NONSGML v1.0//EN
CALSCALE:GREGORIAN
METHOD:PUBLISH
X-WR-CALNAME:Trebetherick Residents&#039; Association
X-ORIGINAL-URL:https://trebetherick.org.uk
X-WR-CALDESC:Events for Trebetherick Residents&#039; Association
REFRESH-INTERVAL;VALUE=DURATION:PT1H
X-Robots-Tag:noindex
X-PUBLISHED-TTL:PT1H
BEGIN:VTIMEZONE
TZID:UTC
BEGIN:STANDARD
TZOFFSETFROM:+0000
TZOFFSETTO:+0000
TZNAME:UTC
DTSTART:20210101T000000
END:STANDARD
END:VTIMEZONE
BEGIN:VTIMEZONE
TZID:UTC
BEGIN:STANDARD
TZOFFSETFROM:+0000
TZOFFSETTO:+0000
TZNAME:UTC
DTSTART:20210101T000000
END:STANDARD
END:VTIMEZONE
BEGIN:VEVENT
DTSTART;TZID=UTC:20220725T000000
DTEND;TZID=UTC:20220806T235959
DTSTAMP:20260424T174842
CREATED:20220619T145505Z
LAST-MODIFIED:20220619T150546Z
UID:1090-1658707200-1659830399@trebetherick.org.uk
SUMMARY:St. Endellion Music Festivals
DESCRIPTION:The St Endellion Music Festivals take place at Easter and in the Summer every year\, bringing together a wide range of musicians from all over the world to perform opera\, choral\, orchestral\, chamber and recital concerts in the inspiring and intimate atmosphere of the Collegiate Church of St Endellion\, North Cornwall and surrounds. \n\n\n\nSt Endellion is near Port Isaac\, about a mile from the glorious North Cornwall Coast.
URL:https://trebetherick.org.uk/event/st-endellion-music-festivals/
LOCATION:St. Endellion
END:VEVENT
BEGIN:VEVENT
DTSTART;TZID=UTC:20220804T000000
DTEND;TZID=UTC:20220811T235959
DTSTAMP:20260424T174842
CREATED:20220619T150228Z
LAST-MODIFIED:20220619T150515Z
UID:1100-1659571200-1660262399@trebetherick.org.uk
SUMMARY:Junior and Shrimper Camel Week
DESCRIPTION:The fleet of Shrimpers (boats with brown sails) race for a week in early August.
URL:https://trebetherick.org.uk/event/junior-and-shrimper-camel-week/
END:VEVENT
END:VCALENDAR