BEGIN:VCALENDAR
VERSION:2.0
PRODID:-//Trebetherick Residents&#039; Association - ECPv6.15.16//NONSGML v1.0//EN
CALSCALE:GREGORIAN
METHOD:PUBLISH
X-WR-CALNAME:Trebetherick Residents&#039; Association
X-ORIGINAL-URL:https://trebetherick.org.uk
X-WR-CALDESC:Events for Trebetherick Residents&#039; Association
REFRESH-INTERVAL;VALUE=DURATION:PT1H
X-Robots-Tag:noindex
X-PUBLISHED-TTL:PT1H
BEGIN:VTIMEZONE
TZID:UTC
BEGIN:STANDARD
TZOFFSETFROM:+0000
TZOFFSETTO:+0000
TZNAME:UTC
DTSTART:20220101T000000
END:STANDARD
END:VTIMEZONE
BEGIN:VEVENT
DTSTART;TZID=UTC:20230408T100000
DTEND;TZID=UTC:20230408T113000
DTSTAMP:20260422T030547
CREATED:20230307T220814Z
LAST-MODIFIED:20230307T220815Z
UID:1300-1680948000-1680953400@trebetherick.org.uk
SUMMARY:Defibrillator Training
DESCRIPTION:Free training session with Alan from Duchy Defibrillators. \n\n\n\nAt the Daymer Bay Beach Shop\, near the car part entrance.
URL:https://trebetherick.org.uk/event/defibrillator-training/
END:VEVENT
END:VCALENDAR